BEGIN:VCALENDAR
VERSION:2.0
PRODID:-//NADI Kg Che Lijah - ECPv6.15.20//NONSGML v1.0//EN
CALSCALE:GREGORIAN
METHOD:PUBLISH
X-WR-CALNAME:NADI Kg Che Lijah
X-ORIGINAL-URL:https://chelijah.nadi.my
X-WR-CALDESC:Events for NADI Kg Che Lijah
REFRESH-INTERVAL;VALUE=DURATION:PT1H
X-Robots-Tag:noindex
X-PUBLISHED-TTL:PT1H
BEGIN:VTIMEZONE
TZID:UTC
BEGIN:STANDARD
TZOFFSETFROM:+0000
TZOFFSETTO:+0000
TZNAME:UTC
DTSTART:20210101T000000
END:STANDARD
END:VTIMEZONE
BEGIN:VEVENT
DTSTART;TZID=UTC:20230615T143000
DTEND;TZID=UTC:20230615T170000
DTSTAMP:20260421T131946
CREATED:20230601T002342Z
LAST-MODIFIED:20230601T002342Z
UID:2238-1686839400-1686848400@chelijah.nadi.my
SUMMARY:Perkakasan Komputer
DESCRIPTION:
URL:https://chelijah.nadi.my/event/perkakasan-komputer-2/
CATEGORIES:DEFAULT
END:VEVENT
BEGIN:VEVENT
DTSTART;TZID=UTC:20230607T150000
DTEND;TZID=UTC:20230607T170000
DTSTAMP:20260421T131946
CREATED:20230601T002249Z
LAST-MODIFIED:20230601T002249Z
UID:2237-1686150000-1686157200@chelijah.nadi.my
SUMMARY:Microsoft Office
DESCRIPTION:
URL:https://chelijah.nadi.my/event/microsoft-office-6/
CATEGORIES:DEFAULT
END:VEVENT
BEGIN:VEVENT
DTSTART;TZID=UTC:20230604T100000
DTEND;TZID=UTC:20230604T120000
DTSTAMP:20260421T131946
CREATED:20230601T002205Z
LAST-MODIFIED:20230601T002205Z
UID:2236-1685872800-1685880000@chelijah.nadi.my
SUMMARY:Celik ICT
DESCRIPTION:
URL:https://chelijah.nadi.my/event/celik-ict-2/
CATEGORIES:DEFAULT
END:VEVENT
BEGIN:VEVENT
DTSTART;TZID=UTC:20230529T143000
DTEND;TZID=UTC:20230529T163000
DTSTAMP:20260421T131946
CREATED:20230508T000754Z
LAST-MODIFIED:20230508T000754Z
UID:2235-1685370600-1685377800@chelijah.nadi.my
SUMMARY:Advokasi
DESCRIPTION:
URL:https://chelijah.nadi.my/event/advokasi-4/
CATEGORIES:DEFAULT
END:VEVENT
BEGIN:VEVENT
DTSTART;TZID=UTC:20230525T100000
DTEND;TZID=UTC:20230525T110000
DTSTAMP:20260421T131946
CREATED:20230508T000712Z
LAST-MODIFIED:20230508T000712Z
UID:2234-1685008800-1685012400@chelijah.nadi.my
SUMMARY:Microsoft Office
DESCRIPTION:
URL:https://chelijah.nadi.my/event/microsoft-office-5/
CATEGORIES:DEFAULT
END:VEVENT
BEGIN:VEVENT
DTSTART;TZID=UTC:20230520T143000
DTEND;TZID=UTC:20230520T170000
DTSTAMP:20260421T131946
CREATED:20230508T000629Z
LAST-MODIFIED:20230508T000629Z
UID:2233-1684593000-1684602000@chelijah.nadi.my
SUMMARY:E-Dagang
DESCRIPTION:
URL:https://chelijah.nadi.my/event/e-dagang-4/
CATEGORIES:DEFAULT
END:VEVENT
BEGIN:VEVENT
DTSTART;TZID=UTC:20230518T110000
DTEND;TZID=UTC:20230518T123000
DTSTAMP:20260421T131946
CREATED:20230508T000539Z
LAST-MODIFIED:20230508T000539Z
UID:2232-1684407600-1684413000@chelijah.nadi.my
SUMMARY:Asas Teknologi Maklumat
DESCRIPTION:
URL:https://chelijah.nadi.my/event/asas-teknologi-maklumat-3/
CATEGORIES:DEFAULT
END:VEVENT
BEGIN:VEVENT
DTSTART;TZID=UTC:20230509T150000
DTEND;TZID=UTC:20230509T170000
DTSTAMP:20260421T131946
CREATED:20230508T000443Z
LAST-MODIFIED:20230508T000443Z
UID:2231-1683644400-1683651600@chelijah.nadi.my
SUMMARY:Celik ICT
DESCRIPTION:
URL:https://chelijah.nadi.my/event/celik-ict/
CATEGORIES:DEFAULT
END:VEVENT
BEGIN:VEVENT
DTSTART;TZID=UTC:20230428T080000
DTEND;TZID=UTC:20230429T170000
DTSTAMP:20260421T131946
CREATED:20230413T232526Z
LAST-MODIFIED:20230413T232526Z
UID:2230-1682668800-1682787600@chelijah.nadi.my
SUMMARY:Internet dan Emel
DESCRIPTION:
URL:https://chelijah.nadi.my/event/internet-dan-emel/
CATEGORIES:DEFAULT
END:VEVENT
BEGIN:VEVENT
DTSTART;TZID=UTC:20230426T080000
DTEND;TZID=UTC:20230427T170000
DTSTAMP:20260421T131946
CREATED:20230413T232455Z
LAST-MODIFIED:20230413T232455Z
UID:2229-1682496000-1682614800@chelijah.nadi.my
SUMMARY:ICT Free
DESCRIPTION:
URL:https://chelijah.nadi.my/event/ict-free-8/
CATEGORIES:DEFAULT
END:VEVENT
BEGIN:VEVENT
DTSTART;TZID=UTC:20230421T080000
DTEND;TZID=UTC:20230424T170000
DTSTAMP:20260421T131946
CREATED:20230413T232437Z
LAST-MODIFIED:20230413T232437Z
UID:2228-1682064000-1682355600@chelijah.nadi.my
SUMMARY:Cuti Hari Raya
DESCRIPTION:
URL:https://chelijah.nadi.my/event/cuti-hari-raya/
CATEGORIES:DEFAULT
END:VEVENT
BEGIN:VEVENT
DTSTART;TZID=UTC:20230416T080000
DTEND;TZID=UTC:20230420T170000
DTSTAMP:20260421T131946
CREATED:20230413T232415Z
LAST-MODIFIED:20230413T232415Z
UID:2227-1681632000-1682010000@chelijah.nadi.my
SUMMARY:ICT Free
DESCRIPTION:
URL:https://chelijah.nadi.my/event/ict-free-7/
CATEGORIES:DEFAULT
END:VEVENT
BEGIN:VEVENT
DTSTART;TZID=UTC:20230414T080000
DTEND;TZID=UTC:20230415T170000
DTSTAMP:20260421T131946
CREATED:20230413T232348Z
LAST-MODIFIED:20230413T232348Z
UID:2226-1681459200-1681578000@chelijah.nadi.my
SUMMARY:Kelebiahan Komputer
DESCRIPTION:
URL:https://chelijah.nadi.my/event/kelebiahan-komputer/
CATEGORIES:DEFAULT
END:VEVENT
BEGIN:VEVENT
DTSTART;TZID=UTC:20230410T080000
DTEND;TZID=UTC:20230413T170000
DTSTAMP:20260421T131946
CREATED:20230413T232245Z
LAST-MODIFIED:20230413T232245Z
UID:2225-1681113600-1681405200@chelijah.nadi.my
SUMMARY:ICT Free
DESCRIPTION:
URL:https://chelijah.nadi.my/event/ict-free-6/
CATEGORIES:DEFAULT
END:VEVENT
BEGIN:VEVENT
DTSTART;TZID=UTC:20230325T143000
DTEND;TZID=UTC:20230325T170000
DTSTAMP:20260421T131946
CREATED:20230224T013242Z
LAST-MODIFIED:20230224T013242Z
UID:2224-1679754600-1679763600@chelijah.nadi.my
SUMMARY:Asas Komputer
DESCRIPTION:
URL:https://chelijah.nadi.my/event/asas-komputer-2/
CATEGORIES:DEFAULT
END:VEVENT
BEGIN:VEVENT
DTSTART;TZID=UTC:20230318T140000
DTEND;TZID=UTC:20230318T170000
DTSTAMP:20260421T131946
CREATED:20230224T013155Z
LAST-MODIFIED:20230224T013155Z
UID:2223-1679148000-1679158800@chelijah.nadi.my
SUMMARY:ICT Free/M.Office
DESCRIPTION:
URL:https://chelijah.nadi.my/event/ict-free-m-office-3/
CATEGORIES:DEFAULT
END:VEVENT
BEGIN:VEVENT
DTSTART;TZID=UTC:20230309T103000
DTEND;TZID=UTC:20230309T123000
DTSTAMP:20260421T131946
CREATED:20230224T013052Z
LAST-MODIFIED:20230224T013052Z
UID:2222-1678357800-1678365000@chelijah.nadi.my
SUMMARY:M.Office/Advokasi
DESCRIPTION:
URL:https://chelijah.nadi.my/event/m-office-advokasi/
CATEGORIES:DEFAULT
END:VEVENT
BEGIN:VEVENT
DTSTART;TZID=UTC:20230306T140000
DTEND;TZID=UTC:20230306T160000
DTSTAMP:20260421T131946
CREATED:20230224T012951Z
LAST-MODIFIED:20230224T012951Z
UID:2221-1678111200-1678118400@chelijah.nadi.my
SUMMARY:E-Pembelajaran(Usahawan)
DESCRIPTION:
URL:https://chelijah.nadi.my/event/e-pembelajaranusahawan-2/
CATEGORIES:DEFAULT
END:VEVENT
BEGIN:VEVENT
DTSTART;TZID=UTC:20230302T100000
DTEND;TZID=UTC:20230302T113000
DTSTAMP:20260421T131946
CREATED:20230224T012758Z
LAST-MODIFIED:20230224T012758Z
UID:2220-1677751200-1677756600@chelijah.nadi.my
SUMMARY:E-DAGANG(Dewasa/Usahawan)
DESCRIPTION:
URL:https://chelijah.nadi.my/event/e-dagangdewasa-usahawan-2/
CATEGORIES:DEFAULT
END:VEVENT
BEGIN:VEVENT
DTSTART;TZID=UTC:20230225T143000
DTEND;TZID=UTC:20230225T170000
DTSTAMP:20260421T131946
CREATED:20230204T193028Z
LAST-MODIFIED:20230204T193028Z
UID:2219-1677335400-1677344400@chelijah.nadi.my
SUMMARY:Usahawan/E-Pembelajaran
DESCRIPTION:
URL:https://chelijah.nadi.my/event/usahawan-e-pembelajaran-3/
CATEGORIES:DEFAULT
END:VEVENT
BEGIN:VEVENT
DTSTART;TZID=UTC:20230216T093000
DTEND;TZID=UTC:20230216T130000
DTSTAMP:20260421T131946
CREATED:20230204T192947Z
LAST-MODIFIED:20230204T192947Z
UID:2218-1676539800-1676552400@chelijah.nadi.my
SUMMARY:E-Dagang (Usahawan)
DESCRIPTION:
URL:https://chelijah.nadi.my/event/e-dagang-usahawan-2/
CATEGORIES:DEFAULT
END:VEVENT
BEGIN:VEVENT
DTSTART;TZID=UTC:20230208T100000
DTEND;TZID=UTC:20230208T130000
DTSTAMP:20260421T131946
CREATED:20230204T192911Z
LAST-MODIFIED:20230204T192911Z
UID:2217-1675850400-1675861200@chelijah.nadi.my
SUMMARY:Advokasi/M.Office
DESCRIPTION:
URL:https://chelijah.nadi.my/event/advokasi-m-office-2/
CATEGORIES:DEFAULT
END:VEVENT
BEGIN:VEVENT
DTSTART;TZID=UTC:20230206T150000
DTEND;TZID=UTC:20230206T170000
DTSTAMP:20260421T131946
CREATED:20230204T192833Z
LAST-MODIFIED:20230204T192833Z
UID:2216-1675695600-1675702800@chelijah.nadi.my
SUMMARY:M.Office
DESCRIPTION:
URL:https://chelijah.nadi.my/event/m-office/
CATEGORIES:DEFAULT
END:VEVENT
BEGIN:VEVENT
DTSTART;TZID=UTC:20230202T090000
DTEND;TZID=UTC:20230202T120000
DTSTAMP:20260421T131946
CREATED:20230204T192804Z
LAST-MODIFIED:20230204T192804Z
UID:2215-1675328400-1675339200@chelijah.nadi.my
SUMMARY:ICT Free/Microsoft Office
DESCRIPTION:
URL:https://chelijah.nadi.my/event/ict-free-microsoft-office-2/
CATEGORIES:DEFAULT
END:VEVENT
BEGIN:VEVENT
DTSTART;TZID=UTC:20230131T030000
DTEND;TZID=UTC:20230131T173000
DTSTAMP:20260421T131946
CREATED:20230115T195936Z
LAST-MODIFIED:20230115T195936Z
UID:2214-1675134000-1675186200@chelijah.nadi.my
SUMMARY:ADVOKASI
DESCRIPTION:
URL:https://chelijah.nadi.my/event/advokasi-3/
CATEGORIES:DEFAULT
END:VEVENT
BEGIN:VEVENT
DTSTART;TZID=UTC:20230127T090000
DTEND;TZID=UTC:20230127T120000
DTSTAMP:20260421T131946
CREATED:20230115T195904Z
LAST-MODIFIED:20230115T195904Z
UID:2213-1674810000-1674820800@chelijah.nadi.my
SUMMARY:E-DAGANG
DESCRIPTION:
URL:https://chelijah.nadi.my/event/e-dagang-3/
CATEGORIES:DEFAULT
END:VEVENT
BEGIN:VEVENT
DTSTART;TZID=UTC:20230119T140000
DTEND;TZID=UTC:20230119T170000
DTSTAMP:20260421T131946
CREATED:20230115T195825Z
LAST-MODIFIED:20230115T195825Z
UID:2212-1674136800-1674147600@chelijah.nadi.my
SUMMARY:DASHBOARD
DESCRIPTION:
URL:https://chelijah.nadi.my/event/dashboard/
CATEGORIES:DEFAULT
END:VEVENT
BEGIN:VEVENT
DTSTART;TZID=UTC:20230105T100000
DTEND;TZID=UTC:20230105T123000
DTSTAMP:20260421T131946
CREATED:20230115T195751Z
LAST-MODIFIED:20230115T195751Z
UID:2211-1672912800-1672921800@chelijah.nadi.my
SUMMARY:E-PEMBELAJARAN
DESCRIPTION:
URL:https://chelijah.nadi.my/event/e-pembelajaran-7/
CATEGORIES:DEFAULT
END:VEVENT
BEGIN:VEVENT
DTSTART;TZID=UTC:20230102T150000
DTEND;TZID=UTC:20230102T170000
DTSTAMP:20260421T131946
CREATED:20230115T195703Z
LAST-MODIFIED:20230115T195703Z
UID:2210-1672671600-1672678800@chelijah.nadi.my
SUMMARY:MICROSOFT OFFICE
DESCRIPTION:
URL:https://chelijah.nadi.my/event/microsoft-office-4/
CATEGORIES:DEFAULT
END:VEVENT
BEGIN:VEVENT
DTSTART;TZID=UTC:20221224T093000
DTEND;TZID=UTC:20221224T120000
DTSTAMP:20260421T131946
CREATED:20221201T200838Z
LAST-MODIFIED:20221201T200838Z
UID:2209-1671874200-1671883200@chelijah.nadi.my
SUMMARY:Advokasi/Microsoft Office
DESCRIPTION:
URL:https://chelijah.nadi.my/event/advokasi-microsoft-office/
CATEGORIES:DEFAULT
END:VEVENT
END:VCALENDAR