BEGIN:VCALENDAR
VERSION:2.0
PRODID:-//NADI Kg Che Lijah - ECPv6.15.20//NONSGML v1.0//EN
CALSCALE:GREGORIAN
METHOD:PUBLISH
X-WR-CALNAME:NADI Kg Che Lijah
X-ORIGINAL-URL:https://chelijah.nadi.my
X-WR-CALDESC:Events for NADI Kg Che Lijah
REFRESH-INTERVAL;VALUE=DURATION:PT1H
X-Robots-Tag:noindex
X-PUBLISHED-TTL:PT1H
BEGIN:VTIMEZONE
TZID:Asia/Kuala_Lumpur
BEGIN:STANDARD
TZOFFSETFROM:+0800
TZOFFSETTO:+0800
TZNAME:+08
DTSTART:20240101T000000
END:STANDARD
END:VTIMEZONE
BEGIN:VTIMEZONE
TZID:UTC
BEGIN:STANDARD
TZOFFSETFROM:+0000
TZOFFSETTO:+0000
TZNAME:UTC
DTSTART:20230101T000000
END:STANDARD
END:VTIMEZONE
BEGIN:VTIMEZONE
TZID:UTC
BEGIN:STANDARD
TZOFFSETFROM:+0000
TZOFFSETTO:+0000
TZNAME:UTC
DTSTART:20220101T000000
END:STANDARD
END:VTIMEZONE
BEGIN:VEVENT
DTSTART;TZID=Asia/Kuala_Lumpur:20251105T080000
DTEND;TZID=Asia/Kuala_Lumpur:20251130T170000
DTSTAMP:20260421T042402
CREATED:20251105T022349Z
LAST-MODIFIED:20251105T022349Z
UID:2795-1762329600-1764522000@chelijah.nadi.my
SUMMARY:KIDVENTURE
DESCRIPTION:
URL:https://chelijah.nadi.my/event/kidventure/
END:VEVENT
BEGIN:VEVENT
DTSTART;TZID=Asia/Kuala_Lumpur:20251005T080000
DTEND;TZID=Asia/Kuala_Lumpur:20251031T170000
DTSTAMP:20260421T042402
CREATED:20251010T023352Z
LAST-MODIFIED:20251010T023502Z
UID:2761-1759651200-1761930000@chelijah.nadi.my
SUMMARY:KIDVENTURE COHORT 6
DESCRIPTION:
URL:https://chelijah.nadi.my/event/kidventure-cohort-6/
END:VEVENT
BEGIN:VEVENT
DTSTART;TZID=Asia/Kuala_Lumpur:20251002T080000
DTEND;TZID=Asia/Kuala_Lumpur:20251030T170000
DTSTAMP:20260421T042402
CREATED:20251010T014235Z
LAST-MODIFIED:20251010T023044Z
UID:2732-1759392000-1761843600@chelijah.nadi.my
SUMMARY:MAHIR JAHIT
DESCRIPTION:
URL:https://chelijah.nadi.my/event/mahir-jahit/
END:VEVENT
BEGIN:VEVENT
DTSTART;TZID=Asia/Kuala_Lumpur:20251001T080000
DTEND;TZID=Asia/Kuala_Lumpur:20251029T170000
DTSTAMP:20260421T042402
CREATED:20250924T024119Z
LAST-MODIFIED:20250924T024119Z
UID:2730-1759305600-1761757200@chelijah.nadi.my
SUMMARY:MAHIR MASAK
DESCRIPTION:
URL:https://chelijah.nadi.my/event/mahir-masak-2/
END:VEVENT
BEGIN:VEVENT
DTSTART;TZID=Asia/Kuala_Lumpur:20250908T090000
DTEND;TZID=Asia/Kuala_Lumpur:20250914T170000
DTSTAMP:20260421T042402
CREATED:20250827T092232Z
LAST-MODIFIED:20250827T095510Z
UID:2695-1757322000-1757869200@chelijah.nadi.my
SUMMARY:NADIPRENEUR & EMPOWERHER
DESCRIPTION:
URL:https://chelijah.nadi.my/event/nadipreneur-empowerher/
END:VEVENT
BEGIN:VEVENT
DTSTART;TZID=Asia/Kuala_Lumpur:20250904T080000
DTEND;TZID=Asia/Kuala_Lumpur:20250930T170000
DTSTAMP:20260421T042402
CREATED:20250904T103028Z
LAST-MODIFIED:20250904T103028Z
UID:2707-1756972800-1759251600@chelijah.nadi.my
SUMMARY:KELAS MAHIR MASAK/BAIKI GAJET
DESCRIPTION:
URL:https://chelijah.nadi.my/event/kelas-mahir-masak-baiki-gajet/
END:VEVENT
BEGIN:VEVENT
DTSTART;TZID=Asia/Kuala_Lumpur:20250904T080000
DTEND;TZID=Asia/Kuala_Lumpur:20250912T170000
DTSTAMP:20260421T042402
CREATED:20250904T102908Z
LAST-MODIFIED:20250904T102933Z
UID:2705-1756972800-1757696400@chelijah.nadi.my
SUMMARY:KIDVENTURE WEBINAR PEMASARAN
DESCRIPTION:
URL:https://chelijah.nadi.my/event/kidventure-webinar-pemasaran/
END:VEVENT
BEGIN:VEVENT
DTSTART;TZID=Asia/Kuala_Lumpur:20250904T080000
DTEND;TZID=Asia/Kuala_Lumpur:20250906T170000
DTSTAMP:20260421T042402
CREATED:20250904T102716Z
LAST-MODIFIED:20250904T102716Z
UID:2703-1756972800-1757178000@chelijah.nadi.my
SUMMARY:PROGRAM KHAS MERDEKA@NADI
DESCRIPTION:
URL:https://chelijah.nadi.my/event/program-khas-merdekanadi/
END:VEVENT
BEGIN:VEVENT
DTSTART;TZID=Asia/Kuala_Lumpur:20250830T090000
DTEND;TZID=Asia/Kuala_Lumpur:20250902T170000
DTSTAMP:20260421T042402
CREATED:20250827T091959Z
LAST-MODIFIED:20250827T092124Z
UID:2693-1756544400-1756832400@chelijah.nadi.my
SUMMARY:GOVERMENT
DESCRIPTION:
URL:https://chelijah.nadi.my/event/goverment/
END:VEVENT
BEGIN:VEVENT
DTSTART;TZID=Asia/Kuala_Lumpur:20250829T090000
DTEND;TZID=Asia/Kuala_Lumpur:20250831T170000
DTSTAMP:20260421T042402
CREATED:20250827T091929Z
LAST-MODIFIED:20250827T092045Z
UID:2691-1756458000-1756659600@chelijah.nadi.my
SUMMARY:EMPOWERHER
DESCRIPTION:
URL:https://chelijah.nadi.my/event/empowerher/
END:VEVENT
BEGIN:VEVENT
DTSTART;TZID=Asia/Kuala_Lumpur:20250828T150000
DTEND;TZID=Asia/Kuala_Lumpur:20250831T163000
DTSTAMP:20260421T042402
CREATED:20250827T091556Z
LAST-MODIFIED:20250827T092101Z
UID:2682-1756393200-1756657800@chelijah.nadi.my
SUMMARY:CYBERSECURITY
DESCRIPTION:
URL:https://chelijah.nadi.my/event/cybersecurity/
END:VEVENT
BEGIN:VEVENT
DTSTART;TZID=Asia/Kuala_Lumpur:20250827T080000
DTEND;TZID=Asia/Kuala_Lumpur:20250831T170000
DTSTAMP:20260421T042402
CREATED:20250827T072555Z
LAST-MODIFIED:20250827T072555Z
UID:2680-1756281600-1756659600@chelijah.nadi.my
SUMMARY:COHORT 4 : VIDEO PELAN PERNIAGAAN PERTAMA SAYA
DESCRIPTION:
URL:https://chelijah.nadi.my/event/cohort-4-video-pelan-perniagaan-pertama-saya/
END:VEVENT
BEGIN:VEVENT
DTSTART;TZID=Asia/Kuala_Lumpur:20250501T080000
DTEND;TZID=Asia/Kuala_Lumpur:20250531T170000
DTSTAMP:20260421T042402
CREATED:20250423T073422Z
LAST-MODIFIED:20250521T082416Z
UID:2556-1746086400-1748710800@chelijah.nadi.my
SUMMARY:PERMOHONAN BANTUAN SECARA ATAS TALIAN
DESCRIPTION:
URL:https://chelijah.nadi.my/event/permohonan-bantuan-secara-atas-talian/
END:VEVENT
BEGIN:VEVENT
DTSTART;VALUE=DATE:20250501
DTEND;VALUE=DATE:20250601
DTSTAMP:20260421T042402
CREATED:20250320T023648Z
LAST-MODIFIED:20250521T082453Z
UID:2522-1746057600-1748735999@chelijah.nadi.my
SUMMARY:KELAS ICT PERCUMA
DESCRIPTION:
URL:https://chelijah.nadi.my/event/kelas-ict-percuma/
END:VEVENT
BEGIN:VEVENT
DTSTART;VALUE=DATE:20250501
DTEND;VALUE=DATE:20250601
DTSTAMP:20260421T042402
CREATED:20250320T023502Z
LAST-MODIFIED:20250521T082752Z
UID:2517-1746057600-1748735999@chelijah.nadi.my
SUMMARY:KEMASKINI SISTEM ATAS TALIAN
DESCRIPTION:
URL:https://chelijah.nadi.my/event/sistem-atas-talian/
END:VEVENT
BEGIN:VEVENT
DTSTART;VALUE=DATE:20250501
DTEND;VALUE=DATE:20250601
DTSTAMP:20260421T042402
CREATED:20250423T073507Z
LAST-MODIFIED:20250521T082527Z
UID:2558-1746057600-1748735999@chelijah.nadi.my
SUMMARY:BUDI MADANI
DESCRIPTION:
URL:https://chelijah.nadi.my/event/budi-madani/
END:VEVENT
BEGIN:VEVENT
DTSTART;VALUE=DATE:20250324
DTEND;VALUE=DATE:20250404
DTSTAMP:20260421T042402
CREATED:20250320T023337Z
LAST-MODIFIED:20250423T073152Z
UID:2515-1742774400-1743724799@chelijah.nadi.my
SUMMARY:NADI MAHIR MASAK
DESCRIPTION:
URL:https://chelijah.nadi.my/event/nadi-mahir-masak/
END:VEVENT
BEGIN:VEVENT
DTSTART;VALUE=DATE:20250322
DTEND;VALUE=DATE:20250324
DTSTAMP:20260421T042402
CREATED:20250320T023557Z
LAST-MODIFIED:20250320T023557Z
UID:2520-1742601600-1742774399@chelijah.nadi.my
SUMMARY:BAZAAR NADI
DESCRIPTION:
URL:https://chelijah.nadi.my/event/bazaar-nadi/
END:VEVENT
BEGIN:VEVENT
DTSTART;TZID=Asia/Kuala_Lumpur:20250320T000000
DTEND;TZID=Asia/Kuala_Lumpur:20250403T235900
DTSTAMP:20260421T042402
CREATED:20250320T023250Z
LAST-MODIFIED:20250423T073112Z
UID:2513-1742428800-1743724740@chelijah.nadi.my
SUMMARY:NADI MAHIR FOTO
DESCRIPTION:
URL:https://chelijah.nadi.my/event/nadi-mahir-foto/
END:VEVENT
BEGIN:VEVENT
DTSTART;VALUE=DATE:20250113
DTEND;VALUE=DATE:20250114
DTSTAMP:20260421T042402
CREATED:20250112T202212Z
LAST-MODIFIED:20250112T202212Z
UID:2422-1736726400-1736812799@chelijah.nadi.my
SUMMARY:NADI MAHIR
DESCRIPTION:
URL:https://chelijah.nadi.my/event/nadi-mahir/
END:VEVENT
BEGIN:VEVENT
DTSTART;TZID=UTC:20250101T090000
DTEND;TZID=UTC:20250131T180000
DTSTAMP:20260421T042402
CREATED:20250112T202318Z
LAST-MODIFIED:20250112T202429Z
UID:2424-1735722000-1738346400@chelijah.nadi.my
SUMMARY:PEMBELAJARAN ATAS TALIAN
DESCRIPTION:
URL:https://chelijah.nadi.my/event/pembelajaran-atas-talian/
END:VEVENT
BEGIN:VEVENT
DTSTART;VALUE=DATE:20250101
DTEND;VALUE=DATE:20250201
DTSTAMP:20260421T042402
CREATED:20250112T202129Z
LAST-MODIFIED:20250112T202129Z
UID:2420-1735689600-1738367999@chelijah.nadi.my
SUMMARY:NADI x Wellbeign
DESCRIPTION:
URL:https://chelijah.nadi.my/event/nadi-x-wellbeign-2/
END:VEVENT
BEGIN:VEVENT
DTSTART;VALUE=DATE:20241224
DTEND;VALUE=DATE:20241225
DTSTAMP:20260421T042402
CREATED:20240105T015741Z
LAST-MODIFIED:20250103T010719Z
UID:2406-1734998400-1735084799@chelijah.nadi.my
SUMMARY:NADI x Wellbeign
DESCRIPTION:
URL:https://chelijah.nadi.my/event/nadi-x-wellbeign/
END:VEVENT
BEGIN:VEVENT
DTSTART;VALUE=DATE:20241224
DTEND;VALUE=DATE:20241225
DTSTAMP:20260421T042402
CREATED:20241224T015335Z
LAST-MODIFIED:20241224T015350Z
UID:2404-1734998400-1735084799@chelijah.nadi.my
SUMMARY:MICROSOFT 360
DESCRIPTION:
URL:https://chelijah.nadi.my/event/microsoft-360/
END:VEVENT
BEGIN:VEVENT
DTSTART;TZID=UTC:20241222T080000
DTEND;TZID=UTC:20241226T170000
DTSTAMP:20260421T042402
CREATED:20241224T015236Z
LAST-MODIFIED:20241224T015236Z
UID:2402-1734854400-1735232400@chelijah.nadi.my
SUMMARY:MAHIR MASAK
DESCRIPTION:
URL:https://chelijah.nadi.my/event/mahir-masak/
END:VEVENT
BEGIN:VEVENT
DTSTART;VALUE=DATE:20240907
DTEND;VALUE=DATE:20240908
DTSTAMP:20260421T042402
CREATED:20240829T180137Z
LAST-MODIFIED:20240829T180137Z
UID:2347-1725728400-1725728400@chelijah.nadi.my
SUMMARY:STEM
DESCRIPTION:STEM Sek Rendah
URL:https://chelijah.nadi.my/event/stem-3/
CATEGORIES:DEFAULT
END:VEVENT
BEGIN:VEVENT
DTSTART;TZID=UTC:20240906T150000
DTEND;TZID=UTC:20240906T170000
DTSTAMP:20260421T042402
CREATED:20240829T180103Z
LAST-MODIFIED:20240829T180103Z
UID:2346-1725634800-1725642000@chelijah.nadi.my
SUMMARY:STEM
DESCRIPTION:STEM untuk Sek Rendah
URL:https://chelijah.nadi.my/event/stem-2/
CATEGORIES:DEFAULT
END:VEVENT
BEGIN:VEVENT
DTSTART;TZID=UTC:20240901T090000
DTEND;TZID=UTC:20240905T170000
DTSTAMP:20260421T042402
CREATED:20240829T180026Z
LAST-MODIFIED:20240829T180026Z
UID:2345-1725181200-1725555600@chelijah.nadi.my
SUMMARY:ICT Free
DESCRIPTION:
URL:https://chelijah.nadi.my/event/ict-free-10/
CATEGORIES:DEFAULT
END:VEVENT
BEGIN:VEVENT
DTSTART;TZID=UTC:20240830T150000
DTEND;TZID=UTC:20240830T170000
DTSTAMP:20260421T042402
CREATED:20240829T175913Z
LAST-MODIFIED:20240829T175913Z
UID:2344-1725030000-1725037200@chelijah.nadi.my
SUMMARY:STEM
DESCRIPTION:
URL:https://chelijah.nadi.my/event/stem/
CATEGORIES:DEFAULT
END:VEVENT
BEGIN:VEVENT
DTSTART;TZID=UTC:20231031T080000
DTEND;TZID=UTC:20231031T170000
DTSTAMP:20260421T042402
CREATED:20230928T193956Z
LAST-MODIFIED:20230928T193956Z
UID:2259-1698739200-1698771600@chelijah.nadi.my
SUMMARY:Microsoft Office
DESCRIPTION:
URL:https://chelijah.nadi.my/event/microsoft-office-8/
CATEGORIES:DEFAULT
END:VEVENT
END:VCALENDAR