BEGIN:VCALENDAR
VERSION:2.0
PRODID:-//NADI Kg Che Lijah - ECPv6.15.20//NONSGML v1.0//EN
CALSCALE:GREGORIAN
METHOD:PUBLISH
X-WR-CALNAME:NADI Kg Che Lijah
X-ORIGINAL-URL:https://chelijah.nadi.my
X-WR-CALDESC:Events for NADI Kg Che Lijah
REFRESH-INTERVAL;VALUE=DURATION:PT1H
X-Robots-Tag:noindex
X-PUBLISHED-TTL:PT1H
BEGIN:VTIMEZONE
TZID:Asia/Kuala_Lumpur
BEGIN:STANDARD
TZOFFSETFROM:+0800
TZOFFSETTO:+0800
TZNAME:+08
DTSTART:20250101T000000
END:STANDARD
END:VTIMEZONE
BEGIN:VEVENT
DTSTART;TZID=Asia/Kuala_Lumpur:20260101T080000
DTEND;TZID=Asia/Kuala_Lumpur:20260131T170000
DTSTAMP:20260420T040420
CREATED:20260120T081549Z
LAST-MODIFIED:20260120T082450Z
UID:2890-1767254400-1769878800@chelijah.nadi.my
SUMMARY:WELLBEING
DESCRIPTION:
URL:https://chelijah.nadi.my/event/wellbeing-3/
END:VEVENT
BEGIN:VEVENT
DTSTART;TZID=Asia/Kuala_Lumpur:20260101T080000
DTEND;TZID=Asia/Kuala_Lumpur:20260131T170000
DTSTAMP:20260420T040420
CREATED:20260120T081615Z
LAST-MODIFIED:20260120T082125Z
UID:2892-1767254400-1769878800@chelijah.nadi.my
SUMMARY:OPEN TUISYEN DILEA
DESCRIPTION:
URL:https://chelijah.nadi.my/event/open-tuisyen-dilea/
END:VEVENT
BEGIN:VEVENT
DTSTART;TZID=Asia/Kuala_Lumpur:20260201T080000
DTEND;TZID=Asia/Kuala_Lumpur:20260224T170000
DTSTAMP:20260420T040420
CREATED:20260205T085242Z
LAST-MODIFIED:20260205T085242Z
UID:2915-1769932800-1771952400@chelijah.nadi.my
SUMMARY:NADI WELLBEING
DESCRIPTION:
URL:https://chelijah.nadi.my/event/nadi-wellbeing/
END:VEVENT
BEGIN:VEVENT
DTSTART;TZID=Asia/Kuala_Lumpur:20260201T080000
DTEND;TZID=Asia/Kuala_Lumpur:20260228T170000
DTSTAMP:20260420T040420
CREATED:20260205T085145Z
LAST-MODIFIED:20260205T085145Z
UID:2913-1769932800-1772298000@chelijah.nadi.my
SUMMARY:NADI KEUSAHAWANAN
DESCRIPTION:
URL:https://chelijah.nadi.my/event/nadi-keusahawanan/
END:VEVENT
BEGIN:VEVENT
DTSTART;TZID=Asia/Kuala_Lumpur:20260301T080000
DTEND;TZID=Asia/Kuala_Lumpur:20260314T170000
DTSTAMP:20260420T040420
CREATED:20260303T025258Z
LAST-MODIFIED:20260303T025258Z
UID:2956-1772352000-1773507600@chelijah.nadi.my
SUMMARY:Cybersecurity
DESCRIPTION:
URL:https://chelijah.nadi.my/event/cybersecurity-3/
END:VEVENT
BEGIN:VEVENT
DTSTART;TZID=Asia/Kuala_Lumpur:20260301T080000
DTEND;TZID=Asia/Kuala_Lumpur:20260320T170000
DTSTAMP:20260420T040420
CREATED:20260303T025606Z
LAST-MODIFIED:20260303T025628Z
UID:2959-1772352000-1774026000@chelijah.nadi.my
SUMMARY:Program Mahir - RAMADAN @ NADI
DESCRIPTION:
URL:https://chelijah.nadi.my/event/program-mahir-ramadan-nadi/
END:VEVENT
BEGIN:VEVENT
DTSTART;TZID=Asia/Kuala_Lumpur:20260401T080000
DTEND;TZID=Asia/Kuala_Lumpur:20260430T170000
DTSTAMP:20260420T040420
CREATED:20260409T090142Z
LAST-MODIFIED:20260409T090142Z
UID:3008-1775030400-1777568400@chelijah.nadi.my
SUMMARY:WELLBEING
DESCRIPTION:
URL:https://chelijah.nadi.my/event/wellbeing-4/
END:VEVENT
BEGIN:VEVENT
DTSTART;TZID=Asia/Kuala_Lumpur:20260401T080000
DTEND;TZID=Asia/Kuala_Lumpur:20260430T170000
DTSTAMP:20260420T040420
CREATED:20260409T090233Z
LAST-MODIFIED:20260409T090233Z
UID:3010-1775030400-1777568400@chelijah.nadi.my
SUMMARY:MAHIR JAHIR / FOTO & MASAK
DESCRIPTION:
URL:https://chelijah.nadi.my/event/mahir-jahir-foto-masak/
END:VEVENT
BEGIN:VEVENT
DTSTART;TZID=Asia/Kuala_Lumpur:20260409T080000
DTEND;TZID=Asia/Kuala_Lumpur:20260430T170000
DTSTAMP:20260420T040420
CREATED:20260409T090120Z
LAST-MODIFIED:20260409T090120Z
UID:3006-1775721600-1777568400@chelijah.nadi.my
SUMMARY:CYBERSECURITY
DESCRIPTION:
URL:https://chelijah.nadi.my/event/cybersecurity-4/
END:VEVENT
END:VCALENDAR