BEGIN:VCALENDAR
VERSION:2.0
PRODID:-//NADI Kg Che Lijah - ECPv6.15.20//NONSGML v1.0//EN
CALSCALE:GREGORIAN
METHOD:PUBLISH
X-WR-CALNAME:NADI Kg Che Lijah
X-ORIGINAL-URL:https://chelijah.nadi.my
X-WR-CALDESC:Events for NADI Kg Che Lijah
REFRESH-INTERVAL;VALUE=DURATION:PT1H
X-Robots-Tag:noindex
X-PUBLISHED-TTL:PT1H
BEGIN:VTIMEZONE
TZID:Asia/Kuala_Lumpur
BEGIN:STANDARD
TZOFFSETFROM:+0800
TZOFFSETTO:+0800
TZNAME:+08
DTSTART:20240101T000000
END:STANDARD
END:VTIMEZONE
BEGIN:VEVENT
DTSTART;TZID=Asia/Kuala_Lumpur:20250904T080000
DTEND;TZID=Asia/Kuala_Lumpur:20250912T170000
DTSTAMP:20260425T200729
CREATED:20250904T102908Z
LAST-MODIFIED:20250904T102933Z
UID:2705-1756972800-1757696400@chelijah.nadi.my
SUMMARY:KIDVENTURE WEBINAR PEMASARAN
DESCRIPTION:
URL:https://chelijah.nadi.my/event/kidventure-webinar-pemasaran/
END:VEVENT
BEGIN:VEVENT
DTSTART;TZID=Asia/Kuala_Lumpur:20250904T080000
DTEND;TZID=Asia/Kuala_Lumpur:20250930T170000
DTSTAMP:20260425T200729
CREATED:20250904T103028Z
LAST-MODIFIED:20250904T103028Z
UID:2707-1756972800-1759251600@chelijah.nadi.my
SUMMARY:KELAS MAHIR MASAK/BAIKI GAJET
DESCRIPTION:
URL:https://chelijah.nadi.my/event/kelas-mahir-masak-baiki-gajet/
END:VEVENT
BEGIN:VEVENT
DTSTART;TZID=Asia/Kuala_Lumpur:20250908T090000
DTEND;TZID=Asia/Kuala_Lumpur:20250914T170000
DTSTAMP:20260425T200729
CREATED:20250827T092232Z
LAST-MODIFIED:20250827T095510Z
UID:2695-1757322000-1757869200@chelijah.nadi.my
SUMMARY:NADIPRENEUR & EMPOWERHER
DESCRIPTION:
URL:https://chelijah.nadi.my/event/nadipreneur-empowerher/
END:VEVENT
END:VCALENDAR